BEGIN:VCALENDAR
VERSION:2.0
PRODID:-//Tukios.com/
BEGIN:VEVENT
UID:530034e2-5cc6-4dd2-af23-6d455232c1e9@www.noebrooks.net
DTSTAMP:20260420T211531Z
DTSTART:20260503T180000Z
DTEND:20260503T190000Z
SUMMARY:Celebration of Life
DESCRIPTION:
URL:https://www.noebrooks.net/obituaries/gary-troxler
LOCATION: 201 Professional Circle  Morehead City NC 28557
GEO:34.7277299;-76.7556097
END:VEVENT
END:VCALENDAR